BEGIN:VCALENDAR
VERSION:2.0
PRODID:-//ExpressionEngine Easy iCalendar plugin//NONSGML v2.0.0//EN
X-WR-TIMEZONE:America/Chicago
X-WR-CALNAME:Upcoming Auctions
BEGIN:VEVENT
UID:152747
DTSTAMP:20260119T120000
DTSTART:20260119T120000
DTEND:20260126T190000
SUMMARY:#2606 Multi-Estate Online Auction
LOCATION:725 Grand Avenue\, Schofield\, WI 54476\, US
DESCRIPTION:Pyrex\, Cameras\, taxidermy\, cast iron\, coin albums\, yarn\, fin
 ished product\, craft supplies and more 
URL:https://www.wisconsinestatesolutions.com/auctions/detail/bw1
 52747
SEQUENCE:1
END:VEVENT
END:VCALENDAR