BEGIN:VCALENDAR
VERSION:2.0
PRODID:-//ExpressionEngine Easy iCalendar plugin//NONSGML v2.0.0//EN
X-WR-TIMEZONE:America/Chicago
X-WR-CALNAME:Upcoming Auctions
BEGIN:VEVENT
UID:105586
DTSTAMP:20230911T120000
DTSTART:20230911T120000
DTEND:20230918T190000
SUMMARY:#70-Junction City Estate Online Auction
LOCATION:4532 County Road E\, Junction City\, WI 54443\, US
DESCRIPTION:Welding\, small equipment and more
URL:https://www.wisconsinestatesolutions.com/auctions/detail/bw1
 05586
SEQUENCE:1
END:VEVENT
END:VCALENDAR