BEGIN:VCALENDAR
VERSION:2.0
PRODID:-//ExpressionEngine Easy iCalendar plugin//NONSGML v2.0.0//EN
X-WR-TIMEZONE:America/Chicago
X-WR-CALNAME:Upcoming Auctions
BEGIN:VEVENT
UID:105584
DTSTAMP:20230904T120000
DTSTART:20230904T120000
DTEND:20230911T190000
SUMMARY:#68-Multi-Estate Online Auction
LOCATION:725 Grand Avenue\, Schofield\, WI 54476\, US
DESCRIPTION:Favre & White Autographs
URL:https://www.wisconsinestatesolutions.com/auctions/detail/bw1
 05584
SEQUENCE:1
END:VEVENT
END:VCALENDAR